BEGIN:VCALENDAR
VERSION:2.0
PRODID:-//Association Sportive du Golf de la Côte des Isles - ECPv6.15.18//NONSGML v1.0//EN
CALSCALE:GREGORIAN
METHOD:PUBLISH
X-WR-CALNAME:Association Sportive du Golf de la Côte des Isles
X-ORIGINAL-URL:https://asgolfcdi.fr
X-WR-CALDESC:Évènements pour Association Sportive du Golf de la Côte des Isles
REFRESH-INTERVAL;VALUE=DURATION:PT1H
X-Robots-Tag:noindex
X-PUBLISHED-TTL:PT1H
BEGIN:VTIMEZONE
TZID:Europe/Paris
BEGIN:DAYLIGHT
TZOFFSETFROM:+0100
TZOFFSETTO:+0200
TZNAME:CEST
DTSTART:20250330T010000
END:DAYLIGHT
BEGIN:STANDARD
TZOFFSETFROM:+0200
TZOFFSETTO:+0100
TZNAME:CET
DTSTART:20251026T010000
END:STANDARD
BEGIN:DAYLIGHT
TZOFFSETFROM:+0100
TZOFFSETTO:+0200
TZNAME:CEST
DTSTART:20260329T010000
END:DAYLIGHT
BEGIN:STANDARD
TZOFFSETFROM:+0200
TZOFFSETTO:+0100
TZNAME:CET
DTSTART:20261025T010000
END:STANDARD
BEGIN:DAYLIGHT
TZOFFSETFROM:+0100
TZOFFSETTO:+0200
TZNAME:CEST
DTSTART:20270328T010000
END:DAYLIGHT
BEGIN:STANDARD
TZOFFSETFROM:+0200
TZOFFSETTO:+0100
TZNAME:CET
DTSTART:20271031T010000
END:STANDARD
END:VTIMEZONE
BEGIN:VEVENT
DTSTART;VALUE=DATE:20260422
DTEND;VALUE=DATE:20260423
DTSTAMP:20260421T130850
CREATED:20260207T072313Z
LAST-MODIFIED:20260329T074257Z
UID:1679-1776816000-1776902399@asgolfcdi.fr
SUMMARY:Trophée du Mercredi (9 et 18 trous)
DESCRIPTION:Parties en stableford\, 9 ou 18 trous
URL:https://asgolfcdi.fr/?tribe_events=trophee-du-mercredi-9-et-18-trous-37
LOCATION:Golf Côte des Isles\, 39 Chemin de coutances\, Saint Jean de la Rivière\, 50270\, France
ORGANIZER;CN="Association Sportive Golf C%C3%B4te des Isles":MAILTO:golf.cdi@gmail.com
END:VEVENT
BEGIN:VEVENT
DTSTART;VALUE=DATE:20260429
DTEND;VALUE=DATE:20260430
DTSTAMP:20260421T130850
CREATED:20260329T074320Z
LAST-MODIFIED:20260329T074320Z
UID:1765-1777420800-1777507199@asgolfcdi.fr
SUMMARY:Trophée du Mercredi (9 et 18 trous)
DESCRIPTION:Parties en stableford\, 9 ou 18 trous
URL:https://asgolfcdi.fr/?tribe_events=trophee-du-mercredi-9-et-18-trous-38
LOCATION:Golf Côte des Isles\, 39 Chemin de coutances\, Saint Jean de la Rivière\, 50270\, France
ORGANIZER;CN="Association Sportive Golf C%C3%B4te des Isles":MAILTO:golf.cdi@gmail.com
END:VEVENT
END:VCALENDAR